BEGIN:VCALENDAR
VERSION:2.0
METHOD:PUBLISH
PRODID:SimpleCalendar
BEGIN:VEVENT
UID:@simplecalendar-Churches of Christ in Christian Union
CATEGORIES:Youth Events
CLASS:PUBLIC
DTSTAMP:20260421T100047Z
CREATED:20260421T100047Z
SUMMARY:Evangelical Christian Youth Spring Retreat
DESCRIPTION:Evangelical Christian Youth Spring Retreat Nipgen Camp /  ECY Office
LOCATION:Nipgen Camp
LAST-MODIFIED:20251201T162136Z
URL:https://cccuhq.org/events/136-youth-events/312-evangelical-christian-youth-spring-retreat-6ec01a1
TRANSP:OPAQUE
DTSTART:20260501T000000Z
DTEND:20260503T000000Z
END:VEVENT
END:VCALENDAR