BEGIN:VCALENDAR
VERSION:2.0
METHOD:PUBLISH
PRODID:SimpleCalendar
BEGIN:VEVENT
UID:@simplecalendar-Churches of Christ in Christian Union
CATEGORIES:Youth Events
CLASS:PUBLIC
DTSTAMP:20260421T095917Z
CREATED:20260421T095917Z
SUMMARY:South Central District Junior Camp
DESCRIPTION:South Central District Junior Camp Nipgen Camp /  ECY Office
LOCATION:Nipgen Camp
LAST-MODIFIED:20251201T162734Z
URL:https://cccuhq.org/events/136-youth-events/314-south-central-district-junior-camp-4b365a7
TRANSP:OPAQUE
DTSTART:20260614T000000Z
DTEND:20260618T000000Z
END:VEVENT
END:VCALENDAR