BEGIN:VCALENDAR
VERSION:2.0
METHOD:PUBLISH
PRODID:SimpleCalendar
BEGIN:VEVENT
UID:@simplecalendar-Churches of Christ in Christian Union
CATEGORIES:NED Events
CLASS:PUBLIC
DTSTAMP:20260421T100940Z
CREATED:20260421T100940Z
SUMMARY:Lily Lake Camp Meeting
DESCRIPTION:Lily Lake Camp Meeting Lily Lake Camp /  Rev. Frank Skies
LOCATION:Lily Lake Camp
LAST-MODIFIED:20250701T142628Z
GEO:42.21277;-75.82259
URL:https://cccuhq.org/events/140-ned-events/302-lily-lake-camp-meeting-8cf7eb2
TRANSP:OPAQUE
DTSTART:20260726T000000Z
DTEND:20260802T000000Z
END:VEVENT
END:VCALENDAR